BEGIN:VCALENDAR
VERSION:2.0
PRODID:-//The Events Calendar - ECPv6.15.20//NONSGML v1.0//EN
CALSCALE:GREGORIAN
METHOD:PUBLISH
X-WR-CALNAME:The Events Calendar
X-ORIGINAL-URL:https://demo.theeventscalendar.com
X-WR-CALDESC:Events for The Events Calendar
REFRESH-INTERVAL;VALUE=DURATION:PT1H
X-Robots-Tag:noindex
X-PUBLISHED-TTL:PT1H
BEGIN:VTIMEZONE
TZID:America/Detroit
BEGIN:DAYLIGHT
TZOFFSETFROM:-0500
TZOFFSETTO:-0400
TZNAME:EDT
DTSTART:20250309T070000
END:DAYLIGHT
BEGIN:STANDARD
TZOFFSETFROM:-0400
TZOFFSETTO:-0500
TZNAME:EST
DTSTART:20251102T060000
END:STANDARD
BEGIN:DAYLIGHT
TZOFFSETFROM:-0500
TZOFFSETTO:-0400
TZNAME:EDT
DTSTART:20260308T070000
END:DAYLIGHT
BEGIN:STANDARD
TZOFFSETFROM:-0400
TZOFFSETTO:-0500
TZNAME:EST
DTSTART:20261101T060000
END:STANDARD
BEGIN:DAYLIGHT
TZOFFSETFROM:-0500
TZOFFSETTO:-0400
TZNAME:EDT
DTSTART:20270314T070000
END:DAYLIGHT
BEGIN:STANDARD
TZOFFSETFROM:-0400
TZOFFSETTO:-0500
TZNAME:EST
DTSTART:20271107T060000
END:STANDARD
END:VTIMEZONE
BEGIN:VEVENT
DTSTART;TZID=America/Detroit:20260522T150000
DTEND;TZID=America/Detroit:20260522T170000
DTSTAMP:20260419T182438
CREATED:20221204T173819Z
LAST-MODIFIED:20250701T182445Z
UID:10000268-1779462000-1779469200@demo.theeventscalendar.com
SUMMARY:Creating Nutritional Meals for Kids - Virtual
DESCRIPTION:Getting your kids to eat healthy can be a challenge. In this class we will teach you some tricks to getting your kids to not only eat their vegetables\, but actually enjoy them.  You will also receive a fourteen (two weeks worth) nutritional recipes you can rotate through to keep your kids excited about what’s going to be on the table that night.
URL:https://demo.theeventscalendar.com/event/creating-nutritional-meals-for-kids-virtual/
CATEGORIES:Nutritional Class
ATTACH;FMTTYPE=image/jpeg:https://demo.theeventscalendar.com/wp-content/uploads/2022/12/brooke-lark-UX87Pz74ukY-unsplash-scaled.jpg
LOCATION:
END:VEVENT
BEGIN:VEVENT
DTSTART;TZID=America/Detroit:20260522T173000
DTEND;TZID=America/Detroit:20260522T200000
DTSTAMP:20260419T182438
CREATED:20221201T160802Z
LAST-MODIFIED:20230130T180757Z
UID:10000001-1779471000-1779480000@demo.theeventscalendar.com
SUMMARY:How To Achieve Balance In Meals
DESCRIPTION:This course will teach you about the value of nutrition and how to cook a nutritional/balanced meal. You will receive a free Balanced Meal cookbook which you can use to help meal prep\, and cook for you and your family.
URL:https://demo.theeventscalendar.com/event/how-to-achieve-balance-in-meals/
LOCATION:ABC Cooking School\, 123 Main Street\, New York City\, NY\, 90210\, United States
CATEGORIES:Nutritional Class
ATTACH;FMTTYPE=image/jpeg:https://demo.theeventscalendar.com/wp-content/uploads/2022/06/pexels-daria-shevtsova-1580467.jpg
ORGANIZER;CN="ABC Cooking School":MAILTO:organizer@example.com
GEO:40.762569;-73.8314318
X-APPLE-STRUCTURED-LOCATION;VALUE=URI;X-ADDRESS=ABC Cooking School 123 Main Street New York City NY 90210 United States;X-APPLE-RADIUS=500;X-TITLE=123 Main Street:geo:-73.8314318,40.762569
END:VEVENT
END:VCALENDAR