BEGIN:VCALENDAR
VERSION:2.0
PRODID:-//The Events Calendar - ECPv6.15.20//NONSGML v1.0//EN
CALSCALE:GREGORIAN
METHOD:PUBLISH
X-WR-CALNAME:The Events Calendar
X-ORIGINAL-URL:https://demo.theeventscalendar.com
X-WR-CALDESC:Events for The Events Calendar
REFRESH-INTERVAL;VALUE=DURATION:PT1H
X-Robots-Tag:noindex
X-PUBLISHED-TTL:PT1H
BEGIN:VTIMEZONE
TZID:America/Detroit
BEGIN:DAYLIGHT
TZOFFSETFROM:-0500
TZOFFSETTO:-0400
TZNAME:EDT
DTSTART:20250309T070000
END:DAYLIGHT
BEGIN:STANDARD
TZOFFSETFROM:-0400
TZOFFSETTO:-0500
TZNAME:EST
DTSTART:20251102T060000
END:STANDARD
BEGIN:DAYLIGHT
TZOFFSETFROM:-0500
TZOFFSETTO:-0400
TZNAME:EDT
DTSTART:20260308T070000
END:DAYLIGHT
BEGIN:STANDARD
TZOFFSETFROM:-0400
TZOFFSETTO:-0500
TZNAME:EST
DTSTART:20261101T060000
END:STANDARD
BEGIN:DAYLIGHT
TZOFFSETFROM:-0500
TZOFFSETTO:-0400
TZNAME:EDT
DTSTART:20270314T070000
END:DAYLIGHT
BEGIN:STANDARD
TZOFFSETFROM:-0400
TZOFFSETTO:-0500
TZNAME:EST
DTSTART:20271107T060000
END:STANDARD
END:VTIMEZONE
BEGIN:VEVENT
DTSTART;TZID=America/Detroit:20260526T150000
DTEND;TZID=America/Detroit:20260526T170000
DTSTAMP:20260423T160041
CREATED:20221204T173819Z
LAST-MODIFIED:20250701T182445Z
UID:10000268-1779807600-1779814800@demo.theeventscalendar.com
SUMMARY:Creating Nutritional Meals for Kids - Virtual
DESCRIPTION:Getting your kids to eat healthy can be a challenge. In this class we will teach you some tricks to getting your kids to not only eat their vegetables\, but actually enjoy them.  You will also receive a fourteen (two weeks worth) nutritional recipes you can rotate through to keep your kids excited about what’s going to be on the table that night.
URL:https://demo.theeventscalendar.com/event/creating-nutritional-meals-for-kids-virtual/
LOCATION:
CATEGORIES:Nutritional Class
ATTACH;FMTTYPE=image/jpeg:https://demo.theeventscalendar.com/wp-content/uploads/2022/12/brooke-lark-UX87Pz74ukY-unsplash-scaled.jpg
END:VEVENT
BEGIN:VEVENT
DTSTART;TZID=America/Detroit:20260526T173000
DTEND;TZID=America/Detroit:20260526T200000
DTSTAMP:20260423T160041
CREATED:20221201T160802Z
LAST-MODIFIED:20230130T180757Z
UID:10000001-1779816600-1779825600@demo.theeventscalendar.com
SUMMARY:How To Achieve Balance In Meals
DESCRIPTION:This course will teach you about the value of nutrition and how to cook a nutritional/balanced meal. You will receive a free Balanced Meal cookbook which you can use to help meal prep\, and cook for you and your family.
URL:https://demo.theeventscalendar.com/event/how-to-achieve-balance-in-meals/
LOCATION:ABC Cooking School\, 123 Main Street\, New York City\, NY\, 90210\, United States
CATEGORIES:Nutritional Class
ATTACH;FMTTYPE=image/jpeg:https://demo.theeventscalendar.com/wp-content/uploads/2022/06/pexels-daria-shevtsova-1580467.jpg
ORGANIZER;CN="ABC Cooking School":MAILTO:organizer@example.com
GEO:40.762569;-73.8314318
X-APPLE-STRUCTURED-LOCATION;VALUE=URI;X-ADDRESS=ABC Cooking School 123 Main Street New York City NY 90210 United States;X-APPLE-RADIUS=500;X-TITLE=123 Main Street:geo:-73.8314318,40.762569
END:VEVENT
BEGIN:VEVENT
DTSTART;VALUE=DATE:20260527
DTEND;VALUE=DATE:20260528
DTSTAMP:20260423T160041
CREATED:20221201T162634Z
LAST-MODIFIED:20221205T172944Z
UID:10004909-1779840000-1779926399@demo.theeventscalendar.com
SUMMARY:Improve Your Cooking Skills
DESCRIPTION:This course will focus on the basics of improving your cooking skills. We will go over what equipment every cook must own\, how to use a knife properly\, how to sauté\, roasting 101\, and much more.  You will have the opportunity to practice your skills\, so bring an apron and be prepared to get messy!
URL:https://demo.theeventscalendar.com/event/improve-your-cooking-skills/2026-05-27/
LOCATION:ABC Cooking School\, 123 Main Street\, New York City\, NY\, 90210\, United States
CATEGORIES:Cooking Class
ATTACH;FMTTYPE=image/jpeg:https://demo.theeventscalendar.com/wp-content/uploads/2022/06/pexels-polina-tankilevitch-4519053.jpg
ORGANIZER;CN="ABC Cooking School":MAILTO:organizer@example.com
GEO:40.762569;-73.8314318
X-APPLE-STRUCTURED-LOCATION;VALUE=URI;X-ADDRESS=ABC Cooking School 123 Main Street New York City NY 90210 United States;X-APPLE-RADIUS=500;X-TITLE=123 Main Street:geo:-73.8314318,40.762569
END:VEVENT
BEGIN:VEVENT
DTSTART;TZID=America/Detroit:20260528T080000
DTEND;TZID=America/Detroit:20260528T170000
DTSTAMP:20260423T160041
CREATED:20221201T164141Z
LAST-MODIFIED:20221205T171711Z
UID:10000262-1779955200-1779987600@demo.theeventscalendar.com
SUMMARY:The Kitchen Equipment Basics
DESCRIPTION:This class will focus on the top ten pieces of kitchen equipment any aspiring chef needs in their kitchen.  Join us in learning how each equipment is used and how it can change your cooking experience. We will also go over brands worth buys and ones you should avoid.
URL:https://demo.theeventscalendar.com/event/the-kitchen-equipment-basics/
LOCATION:ABC Cooking School\, 123 Main Street\, New York City\, NY\, 90210\, United States
CATEGORIES:Cooking Class
ATTACH;FMTTYPE=image/jpeg:https://demo.theeventscalendar.com/wp-content/uploads/2022/06/alyson-mcphee-yWG-ndhxvqY-unsplash.jpg
ORGANIZER;CN="ABC Cooking School":MAILTO:organizer@example.com
GEO:40.762569;-73.8314318
X-APPLE-STRUCTURED-LOCATION;VALUE=URI;X-ADDRESS=ABC Cooking School 123 Main Street New York City NY 90210 United States;X-APPLE-RADIUS=500;X-TITLE=123 Main Street:geo:-73.8314318,40.762569
END:VEVENT
BEGIN:VEVENT
DTSTART;VALUE=DATE:20260530
DTEND;VALUE=DATE:20260531
DTSTAMP:20260423T160041
CREATED:20221201T162634Z
LAST-MODIFIED:20221205T172944Z
UID:10004784-1780099200-1780185599@demo.theeventscalendar.com
SUMMARY:Improve Your Cooking Skills
DESCRIPTION:This course will focus on the basics of improving your cooking skills. We will go over what equipment every cook must own\, how to use a knife properly\, how to sauté\, roasting 101\, and much more.  You will have the opportunity to practice your skills\, so bring an apron and be prepared to get messy!
URL:https://demo.theeventscalendar.com/event/improve-your-cooking-skills/2026-05-30/
LOCATION:ABC Cooking School\, 123 Main Street\, New York City\, NY\, 90210\, United States
CATEGORIES:Cooking Class
ATTACH;FMTTYPE=image/jpeg:https://demo.theeventscalendar.com/wp-content/uploads/2022/06/pexels-polina-tankilevitch-4519053.jpg
ORGANIZER;CN="ABC Cooking School":MAILTO:organizer@example.com
GEO:40.762569;-73.8314318
X-APPLE-STRUCTURED-LOCATION;VALUE=URI;X-ADDRESS=ABC Cooking School 123 Main Street New York City NY 90210 United States;X-APPLE-RADIUS=500;X-TITLE=123 Main Street:geo:-73.8314318,40.762569
END:VEVENT
END:VCALENDAR